BEGIN:VCALENDAR
VERSION:2.0
PRODID:-//Heartland, A Church Connected - ECPv6.15.20//NONSGML v1.0//EN
CALSCALE:GREGORIAN
METHOD:PUBLISH
X-WR-CALNAME:Heartland, A Church Connected
X-ORIGINAL-URL:https://achurchconnected.ca
X-WR-CALDESC:Events for Heartland, A Church Connected
REFRESH-INTERVAL;VALUE=DURATION:PT1H
X-Robots-Tag:noindex
X-PUBLISHED-TTL:PT1H
BEGIN:VTIMEZONE
TZID:America/Toronto
BEGIN:DAYLIGHT
TZOFFSETFROM:-0500
TZOFFSETTO:-0400
TZNAME:EDT
DTSTART:20170312T070000
END:DAYLIGHT
BEGIN:STANDARD
TZOFFSETFROM:-0400
TZOFFSETTO:-0500
TZNAME:EST
DTSTART:20171105T060000
END:STANDARD
BEGIN:DAYLIGHT
TZOFFSETFROM:-0500
TZOFFSETTO:-0400
TZNAME:EDT
DTSTART:20180311T070000
END:DAYLIGHT
BEGIN:STANDARD
TZOFFSETFROM:-0400
TZOFFSETTO:-0500
TZNAME:EST
DTSTART:20181104T060000
END:STANDARD
BEGIN:DAYLIGHT
TZOFFSETFROM:-0500
TZOFFSETTO:-0400
TZNAME:EDT
DTSTART:20190310T070000
END:DAYLIGHT
BEGIN:STANDARD
TZOFFSETFROM:-0400
TZOFFSETTO:-0500
TZNAME:EST
DTSTART:20191103T060000
END:STANDARD
END:VTIMEZONE
BEGIN:VEVENT
DTSTART;VALUE=DATE:20180722
DTEND;VALUE=DATE:20180731
DTSTAMP:20260422T040831
CREATED:20180717T184706Z
LAST-MODIFIED:20180731T140332Z
UID:3640-1532224800-1532915999@achurchconnected.ca
SUMMARY:Backpack for Kids
DESCRIPTION:Backpacks For Kids \nEvery year we donate backpacks to the Open Door Mississauga that are filled with back-to-school supplies for under-resourced families in our city. Help us meet our donation goal of 100 backpacks this summer. \nBuy the backpack for $10.00\, fill it with the supplies noted on the list inside and bring it back to us by Sunday August 19th.
URL:https://achurchconnected.ca/event/backpack-for-kids/
LOCATION:On
CATEGORIES:All Events,Church Wide
ATTACH;FMTTYPE=image/jpeg:https://achurchconnected.ca/wp-content/uploads/2018/07/backpacks-for-kids.jpg
END:VEVENT
END:VCALENDAR